BEGIN:VCALENDAR
PRODID:NingEventWidget-v1
VERSION:2.0
METHOD:PUBLISH
BEGIN:VEVENT
UID:2036441:Event:110753
DTSTAMP:20260425T120137Z
SUMMARY:2020 Pharma CI Europe Conference &amp; Exhibition
DESCRIPTION:The 2020 Pharma CI Europe Conference & Exhibition (Novembe
 r 5-6, 2020, Zurich) is the industry's gold standard event for senior 
 level pharma, biotech, and medical device professionals who seek the l
 atest in competitive and business intelligence.\nJoin us at this premi
 er gathering and network with other key decision makers as you learn a
 bout the most pressing and relevant issues facing the competitive inte
 lligence community today. This is the only event featuring a world-cla
 ss lineup of speakers and panelists offering their unique insights and
  expertise on the topics you care about most!\nThe Pharma CI Conferenc
 e & Exhibition is the best and largest assembly of competitive intelli
 gence executives in pharma, biotech, and medical devices for 10+ years
 .\n\nFor more information visit https://competitiveintelligence.ning.c
 om/events/2020-pharma-ci-europe-conference-amp-exhibition-1
DTSTART:20201105T140000Z
DTEND:20201106T220000Z
CATEGORIES:conference, exhibition
LOCATION:Hilton Zurich Airport
WEBSITE:http://europe.pharmaciconference.com/hotel/
URL:http://europe.pharmaciconference.com/hotel/
CONTACT:+1-212-228-7974
ORGANIZER;CN="Ross Frasier":https://competitiveintelligence.ning.com/p
 rofile/RossFrasier
ATTACH;FMTTYPE="image/jpeg":https://storage.ning.com/topology/rest/1.0
 /file/get/5146127854?profile=original
ATTENDEE;ROLE=REQ-PARTICIPANT;PARTSTAT=ACCEPTED;RSVP=TRUE;CN="Ross Fra
 sier":https://competitiveintelligence.ning.com/profile/RossFrasier
END:VEVENT
END:VCALENDAR
